BEGIN:VCALENDAR
VERSION:2.0
PRODID:-//Contratero//ES
CALSCALE:GREGORIAN
METHOD:PUBLISH
BEGIN:VEVENT
UID:SC/02/2023-L1 y L4@contratero.es
DTSTAMP:20260422T234558Z
DTSTART:20230328T235959
DTEND:20230329T005959
SUMMARY:Cierre: Servicios de despliegue\, soporte y mantenimiento d
DESCRIPTION:Servicios de despliegue\, soporte y mantenimiento de diferentes productos software\, en dos lotes:\n▪ Lote 1: Soporte y mantenimiento de Zimbra Collaboration Suite\, en su versión Open Source.\n▪ Lote 4: D...\\n\\nOrganismo: Sindicatura de Comptes de la Generalitat Valenciana\\n\\nVer en Contratero: https://contratero.es/contracts/SC/02/2023-L1 y L4
URL:https://contratero.es/contracts/SC/02/2023-L1 y L4
STATUS:CONFIRMED
BEGIN:VALARM
TRIGGER:-P1D
ACTION:DISPLAY
DESCRIPTION:Recordatorio: Servicios de despliegue\, sopor
END:VALARM
END:VEVENT
END:VCALENDAR